{
 "currentVersion": 10.61,
 "serviceDescription": "Image_Services/1901",
 "name": "Image_Services/1901",
 "description": "",
 "extent": {
  "xmin": -9201855.243048562,
  "ymin": 4095062.2426146865,
  "xmax": -9198952.740148103,
  "ymax": 4097142.288941598,
  "spatialReference": {
   "wkid": 102100,
   "latestWkid": 3857
  }
 },
 "initialExtent": {
  "xmin": -9201855.243048562,
  "ymin": 4095062.2426146865,
  "xmax": -9198952.740148103,
  "ymax": 4097142.288941598,
  "spatialReference": {
   "wkid": 102100,
   "latestWkid": 3857
  }
 },
 "fullExtent": {
  "xmin": -9201855.243048562,
  "ymin": 4095062.2426146865,
  "xmax": -9198952.740148103,
  "ymax": 4097142.288941598,
  "spatialReference": {
   "wkid": 102100,
   "latestWkid": 3857
  }
 },
 "pixelSizeX": 0.07125154410003123,
 "pixelSizeY": 0.07125154410000831,
 "bandCount": 3,
 "pixelType": "U8",
 "minPixelSize": 0,
 "maxPixelSize": 0,
 "copyrightText": "",
 "serviceDataType": "esriImageServiceDataTypeRGB",
 "minValues": [
  1,
  1,
  0
 ],
 "maxValues": [
  255,
  254,
  243
 ],
 "meanValues": [
  218.404111596309,
  210.96899928395752,
  173.23230741989806
 ],
 "stdvValues": [
  29.559962195592334,
  32.868348947396285,
  45.967067588609176
 ],
 "objectIdField": "",
 "fields": [],
 "capabilities": "Image,Metadata,Mensuration",
 "defaultMosaicMethod": "Center",
 "allowedMosaicMethods": "",
 "sortField": "",
 "sortValue": null,
 "mosaicOperator": "First",
 "defaultCompressionQuality": 75,
 "defaultResamplingMethod": "Bilinear",
 "maxImageHeight": 4100,
 "maxImageWidth": 15000,
 "allowRasterFunction": true,
 "rasterFunctionInfos": [
  {
   "name": "None",
   "description": "",
   "help": ""
  }
 ],
 "rasterTypeInfos": [
  {
   "name": "Raster Dataset",
   "description": "Supports all ArcGIS Raster Datasets",
   "help": ""
  }
 ],
 "mensurationCapabilities": "Basic",
 "hasHistograms": true,
 "hasColormap": false,
 "hasRasterAttributeTable": false,
 "minScale": 0,
 "maxScale": 0,
 "exportTilesAllowed": false,
 "hasMultidimensions": false,
 "supportsStatistics": false,
 "supportsAdvancedQueries": false,
 "editFieldsInfo": null,
 "ownershipBasedAccessControlForRasters": null,
 "allowComputeTiePoints": false,
 "useStandardizedQueries": true,
 "advancedQueryCapabilities": {
  "useStandardizedQueries": true,
  "supportsStatistics": false,
  "supportsOrderBy": false,
  "supportsDistinct": false,
  "supportsPagination": false
 },
 "spatialReference": {
  "wkid": 102100,
  "latestWkid": 3857
 }
}
