View In:
ArcGIS JavaScript
ArcGIS Online Map Viewer
ArcGIS Earth
ArcMap
View Footprint In:
ArcGIS Online Map Viewer
Service Description: Image_Services/1890
Name: Image_Services/1890
Description:
Single Fused Map Cache: false
Extent:
XMin: -9201010.719656698
YMin: 4096235.639402093
XMax: -9200134.450371543
YMax: 4096843.226564114
Spatial Reference: 102100
(3857)
Initial Extent:
XMin: -9201010.719656698
YMin: 4096235.639402093
XMax: -9200134.450371543
YMax: 4096843.226564114
Spatial Reference: 102100
(3857)
Full Extent:
XMin: -9201010.719656698
YMin: 4096235.639402093
XMax: -9200134.450371543
YMax: 4096843.226564114
Spatial Reference: 102100
(3857)
Pixel Size X: 0.07980594582472315
Pixel Size Y: 0.07224579810000974
Band Count: 3
Pixel Type: U8
RasterFunction Infos: {"rasterFunctionInfos": [{
"name": "None",
"description": "",
"help": ""
}]}
Mensuration Capabilities: Basic
Has Histograms: true
Has Colormap: false
Has Multi Dimensions : false
Rendering Rule:
Min Scale: 0
Max Scale: 0
Copyright Text:
Service Data Type: esriImageServiceDataTypeRGB
Min Values: 0, 0, 0
Max Values: 255, 255, 255
Mean Values: 219.49325130186895, 204.48893489427022, 158.72778091000987
Standard Deviation Values: 29.241415254826876, 29.962810245945043, 31.425259901907324
Object ID Field:
Fields:
None
Default Mosaic Method: Center
Allowed Mosaic Methods:
SortField:
SortValue: null
Mosaic Operator: First
Default Compression Quality: 75
Default Resampling Method: Bilinear
Max Record Count: null
Max Image Height: 4100
Max Image Width: 15000
Max Download Image Count: null
Max Mosaic Image Count: null
Allow Raster Function: true
Allow Compute TiePoints: false
Supports Statistics: false
Supports Advanced Queries: false
Use StandardizedQueries: true
Raster Type Infos:
Name: Raster Dataset
Description: Supports all ArcGIS Raster Datasets
Help:
Has Raster Attribute Table: false
Edit Fields Info: null
Ownership Based AccessControl For Rasters: null
Child Resources:
Info
Histograms
Key Properties
Legend
MultiDimensionalInfo
rasterFunctionInfos
Supported Operations:
Export Image
Identify
Measure
Compute Histograms
Compute Statistics Histograms
Get Samples
Compute Class Statistics
Query Boundary