View In:
ArcGIS JavaScript
ArcGIS Online Map Viewer
ArcGIS Earth
ArcMap
View Footprint In:
ArcGIS Online Map Viewer
Service Description: Image_Services/1911
Name: Image_Services/1911
Description:
Single Fused Map Cache: false
Extent:
XMin: -9201554.717840837
YMin: 4096518.154713904
XMax: -9199948.686147004
YMax: 4097669.0940368264
Spatial Reference: 102100
(3857)
Initial Extent:
XMin: -9201554.717840837
YMin: 4096518.154713904
XMax: -9199948.686147004
YMax: 4097669.0940368264
Spatial Reference: 102100
(3857)
Full Extent:
XMin: -9201554.717840837
YMin: 4096518.154713904
XMax: -9199948.686147004
YMax: 4097669.0940368264
Spatial Reference: 102100
(3857)
Pixel Size X: 0.02275348087148573
Pixel Size Y: 0.02275348087148605
Band Count: 3
Pixel Type: U8
RasterFunction Infos: {"rasterFunctionInfos": [{
"name": "None",
"description": "",
"help": ""
}]}
Mensuration Capabilities: Basic
Has Histograms: true
Has Colormap: false
Has Multi Dimensions : false
Rendering Rule:
Min Scale: 0
Max Scale: 0
Copyright Text:
Service Data Type: esriImageServiceDataTypeRGB
Min Values: 3, 3, 0
Max Values: 255, 254, 240
Mean Values: 222.55200269396033, 211.19987594531804, 168.9586950270821
Standard Deviation Values: 29.625031257157513, 33.829593300256114, 40.16061013676402
Object ID Field:
Fields:
None
Default Mosaic Method: Center
Allowed Mosaic Methods:
SortField:
SortValue: null
Mosaic Operator: First
Default Compression Quality: 75
Default Resampling Method: Bilinear
Max Record Count: null
Max Image Height: 4100
Max Image Width: 15000
Max Download Image Count: null
Max Mosaic Image Count: null
Allow Raster Function: true
Allow Compute TiePoints: false
Supports Statistics: false
Supports Advanced Queries: false
Use StandardizedQueries: true
Raster Type Infos:
Name: Raster Dataset
Description: Supports all ArcGIS Raster Datasets
Help:
Has Raster Attribute Table: false
Edit Fields Info: null
Ownership Based AccessControl For Rasters: null
Child Resources:
Info
Histograms
Key Properties
Legend
MultiDimensionalInfo
rasterFunctionInfos
Supported Operations:
Export Image
Identify
Measure
Compute Histograms
Compute Statistics Histograms
Get Samples
Compute Class Statistics
Query Boundary