View In:
ArcGIS JavaScript
ArcGIS Online Map Viewer
ArcGIS Earth
ArcMap
View Footprint In:
ArcGIS Online Map Viewer
Service Description: Image_Services/1918
Name: Image_Services/1918
Description:
Single Fused Map Cache: false
Extent:
XMin: -9203345.68346089
YMin: 4093689.572271808
XMax: -9196474.957464354
YMax: 4098604.5013633478
Spatial Reference: 102100
(3857)
Initial Extent:
XMin: -9203345.68346089
YMin: 4093689.572271808
XMax: -9196474.957464354
YMax: 4098604.5013633478
Spatial Reference: 102100
(3857)
Full Extent:
XMin: -9203345.68346089
YMin: 4093689.572271808
XMax: -9196474.957464354
YMax: 4098604.5013633478
Spatial Reference: 102100
(3857)
Pixel Size X: 0.05677863627114736
Pixel Size Y: 0.05677863627115164
Band Count: 3
Pixel Type: U8
RasterFunction Infos: {"rasterFunctionInfos": [{
"name": "None",
"description": "",
"help": ""
}]}
Mensuration Capabilities: Basic
Has Histograms: true
Has Colormap: false
Has Multi Dimensions : false
Rendering Rule:
Min Scale: 0
Max Scale: 0
Copyright Text:
Service Data Type: esriImageServiceDataTypeRGB
Min Values: 0, 1, 0
Max Values: 255, 254, 244
Mean Values: 219.79391216380938, 212.9677718054723, 176.2609193923289
Standard Deviation Values: 30.382826917306783, 32.66323961323927, 38.80668239781652
Object ID Field:
Fields:
None
Default Mosaic Method: Center
Allowed Mosaic Methods:
SortField:
SortValue: null
Mosaic Operator: First
Default Compression Quality: 75
Default Resampling Method: Bilinear
Max Record Count: null
Max Image Height: 4100
Max Image Width: 15000
Max Download Image Count: null
Max Mosaic Image Count: null
Allow Raster Function: true
Allow Compute TiePoints: false
Supports Statistics: false
Supports Advanced Queries: false
Use StandardizedQueries: true
Raster Type Infos:
Name: Raster Dataset
Description: Supports all ArcGIS Raster Datasets
Help:
Has Raster Attribute Table: false
Edit Fields Info: null
Ownership Based AccessControl For Rasters: null
Child Resources:
Info
Histograms
Key Properties
Legend
MultiDimensionalInfo
rasterFunctionInfos
Supported Operations:
Export Image
Identify
Measure
Compute Histograms
Compute Statistics Histograms
Get Samples
Compute Class Statistics
Query Boundary