View In:
ArcGIS JavaScript
ArcGIS Online Map Viewer
ArcGIS Earth
ArcMap
View Footprint In:
ArcGIS Online Map Viewer
Service Description: Image_Services/1901
Name: Image_Services/1901
Description:
Single Fused Map Cache: false
Extent:
XMin: -9201855.243048562
YMin: 4095062.2426146865
XMax: -9198952.740148103
YMax: 4097142.288941598
Spatial Reference: 102100
(3857)
Initial Extent:
XMin: -9201855.243048562
YMin: 4095062.2426146865
XMax: -9198952.740148103
YMax: 4097142.288941598
Spatial Reference: 102100
(3857)
Full Extent:
XMin: -9201855.243048562
YMin: 4095062.2426146865
XMax: -9198952.740148103
YMax: 4097142.288941598
Spatial Reference: 102100
(3857)
Pixel Size X: 0.07125154410003123
Pixel Size Y: 0.07125154410000831
Band Count: 3
Pixel Type: U8
RasterFunction Infos: {"rasterFunctionInfos": [{
"name": "None",
"description": "",
"help": ""
}]}
Mensuration Capabilities: Basic
Has Histograms: true
Has Colormap: false
Has Multi Dimensions : false
Rendering Rule:
Min Scale: 0
Max Scale: 0
Copyright Text:
Service Data Type: esriImageServiceDataTypeRGB
Min Values: 1, 1, 0
Max Values: 255, 254, 243
Mean Values: 218.404111596309, 210.96899928395752, 173.23230741989806
Standard Deviation Values: 29.559962195592334, 32.868348947396285, 45.967067588609176
Object ID Field:
Fields:
None
Default Mosaic Method: Center
Allowed Mosaic Methods:
SortField:
SortValue: null
Mosaic Operator: First
Default Compression Quality: 75
Default Resampling Method: Bilinear
Max Record Count: null
Max Image Height: 4100
Max Image Width: 15000
Max Download Image Count: null
Max Mosaic Image Count: null
Allow Raster Function: true
Allow Compute TiePoints: false
Supports Statistics: false
Supports Advanced Queries: false
Use StandardizedQueries: true
Raster Type Infos:
Name: Raster Dataset
Description: Supports all ArcGIS Raster Datasets
Help:
Has Raster Attribute Table: false
Edit Fields Info: null
Ownership Based AccessControl For Rasters: null
Child Resources:
Info
Histograms
Key Properties
Legend
MultiDimensionalInfo
rasterFunctionInfos
Supported Operations:
Export Image
Identify
Measure
Compute Histograms
Compute Statistics Histograms
Get Samples
Compute Class Statistics
Query Boundary